BEGIN:VCALENDAR
VERSION:2.0
METHOD:PUBLISH
CALSCALE:GREGORIAN
PRODID:-//Helios Calendar//EN
X-FROM-URL:https://www.aamu.edu/calendar/index.php?eID=2529
X-WR-RELCALID:AAMU Calendar International Education Week:  Virtual Cooking Demonstration  20211109T123000
X-WR-TIMEZONE:Europe/London
X-WR-CALNAME:AAMU Calendar
BEGIN:VEVENT
URL;VALUE=URI:https://www.aamu.edu/calendar/index.php?eID=2529
DTSTART:20211109T123000
DTEND:20211109T130000
SUMMARY:International Education Week:  Virtual Cooking Demonstration 
DESCRIPTION:Join in for a virtual cooking demonstration on preparing authentic Chinese dishes.Zoom  ID: 9029026825Password:  AAMU    For complete event details please visit:  https://www.aamu.edu/calendar/?eID=2529\n______________________________\nEvent Downloaded Powered by OU Calendar
LOCATION:Zoom Meeting - Zoom Meeting \, Huntsville\, AL  35810
CATEGORIES:AAMU Calendar Events
PRIORITY:0
TRANSP:TRANSPARENT
END:VEVENT
END:VCALENDAR