BEGIN:VCALENDAR
VERSION:2.0
METHOD:PUBLISH
CALSCALE:GREGORIAN
PRODID:-//Helios Calendar//EN
X-FROM-URL:https://www.aamu.edu/calendar/index.php?eID=2530
X-WR-RELCALID:AAMU Calendar International Education Week:  Student Panel Discussion, 'International Experience' 20211109T180000
X-WR-TIMEZONE:Europe/London
X-WR-CALNAME:AAMU Calendar
BEGIN:VEVENT
URL;VALUE=URI:https://www.aamu.edu/calendar/index.php?eID=2530
DTSTART:20211109T180000
DTEND:20211109T180000
SUMMARY:International Education Week:  Student Panel Discussion\, 'International Experience'
DESCRIPTION:Join the International Student Association (ISA) in a virtual student panel discussion regarding "International Student Experience."Zoom link:  https://aamu.zoom.us/j/3816965546 For complete event details please visit:  https://www.aamu.edu/calendar/?eID=2530\n______________________________\nEvent Downloaded Powered by OU Calendar
LOCATION:Zoom Meeting - Zoom Meeting \, Huntsville\, AL  35810
CATEGORIES:AAMU Calendar Events
PRIORITY:0
TRANSP:TRANSPARENT
END:VEVENT
END:VCALENDAR