BEGIN:VCALENDAR
VERSION:2.0
METHOD:PUBLISH
CALSCALE:GREGORIAN
PRODID:-//Helios Calendar//EN
X-FROM-URL:https://www.aamu.edu/calendar/index.php?eID=2533
X-WR-RELCALID:AAMU Calendar Trivia Night  20211112T180000
X-WR-TIMEZONE:Europe/London
X-WR-CALNAME:AAMU Calendar
BEGIN:VEVENT
URL;VALUE=URI:https://www.aamu.edu/calendar/index.php?eID=2533
DTSTART:20211112T180000
DTEND:20211112T180000
SUMMARY:Trivia Night 
DESCRIPTION:Join the International Student Association (ISA) in a fun night of virtual trivia.Zoom link:  https://aamu.zoom.us/j/3816965546Door prizes will be given away!! For complete event details please visit:  https://www.aamu.edu/calendar/?eID=2533\n______________________________\nEvent Downloaded Powered by OU Calendar
LOCATION:Zoom Meeting - Zoom Meeting \, Huntsville\, AL  35810
CATEGORIES:AAMU Calendar Events
PRIORITY:0
TRANSP:TRANSPARENT
END:VEVENT
END:VCALENDAR