BEGIN:VCALENDAR
VERSION:2.0
METHOD:PUBLISH
CALSCALE:GREGORIAN
PRODID:-//Helios Calendar//EN
X-FROM-URL:https://www.aamu.edu/calendar/index.php?eID=2536
X-WR-RELCALID:AAMU Calendar Civic Engagement Week 20220220T070000
X-WR-TIMEZONE:Europe/London
X-WR-CALNAME:AAMU Calendar
BEGIN:VEVENT
URL;VALUE=URI:https://www.aamu.edu/calendar/index.php?eID=2536
DTSTART:20220220T070000
DTEND:20220220T200000
SUMMARY:Civic Engagement Week
DESCRIPTION:A week of voter education\, registration and communication. For complete event details please visit:  https://www.aamu.edu/calendar/?eID=2536\n______________________________\nEvent Downloaded Powered by OU Calendar
LOCATION:Monica Bell Clarke -  \, \, AL United States 35758
CATEGORIES:AAMU Calendar Events
PRIORITY:0
TRANSP:TRANSPARENT
END:VEVENT
END:VCALENDAR