BEGIN:VCALENDAR
VERSION:2.0
METHOD:PUBLISH
CALSCALE:GREGORIAN
PRODID:-//Helios Calendar//EN
X-FROM-URL:https://www.aamu.edu/calendar/index.php?eID=2553
X-WR-RELCALID:AAMU Calendar Filing for Success Webinar  20211201T173000
X-WR-TIMEZONE:Europe/London
X-WR-CALNAME:AAMU Calendar
BEGIN:VEVENT
URL;VALUE=URI:https://www.aamu.edu/calendar/index.php?eID=2553
DTSTART:20211201T173000
DTEND:20211201T190000
SUMMARY:Filing for Success Webinar 
DESCRIPTION:Are you a new small business owner? Looking for guidance on legal obligations and structures? Confused about taxes and business owner responsibilities? Join Alabama Extension at AAMU for this free\,... For complete event details please visit:  https://www.aamu.edu/calendar/?eID=2553\n______________________________\nEvent Downloaded Powered by OU Calendar
LOCATION:Zoom Meeting - Zoom Meeting \, Huntsville\, AL  35810
CATEGORIES:AAMU Calendar Events
PRIORITY:0
TRANSP:TRANSPARENT
END:VEVENT
END:VCALENDAR