BEGIN:VCALENDAR
VERSION:2.0
METHOD:PUBLISH
CALSCALE:GREGORIAN
PRODID:-//Helios Calendar//EN
X-FROM-URL:https://www.aamu.edu/calendar/index.php?eID=2555
X-WR-RELCALID:AAMU Calendar Write Place Workshop--Ask Me Anything! 20211117T120000
X-WR-TIMEZONE:Europe/London
X-WR-CALNAME:AAMU Calendar
BEGIN:VEVENT
URL;VALUE=URI:https://www.aamu.edu/calendar/index.php?eID=2555
DTSTART:20211117T120000
DTEND:20211117T130000
SUMMARY:Write Place Workshop--Ask Me Anything!
DESCRIPTION:Do you have a random writing question? This week Dr. Roper and her team are here to help. Join the Zoom\, Wednesday\, November 17 from 12p-1p and get the answer to your question so you can finish the... For complete event details please visit:  https://www.aamu.edu/calendar/?eID=2555\n______________________________\nEvent Downloaded Powered by OU Calendar
LOCATION:Zoom Meeting - Zoom Meeting \, Huntsville\, AL  35810
CATEGORIES:AAMU Calendar Events
PRIORITY:0
TRANSP:TRANSPARENT
END:VEVENT
END:VCALENDAR