BEGIN:VCALENDAR
VERSION:2.0
METHOD:PUBLISH
CALSCALE:GREGORIAN
PRODID:-//Helios Calendar//EN
X-FROM-URL:https://www.aamu.edu/calendar/index.php?eID=2570
X-WR-RELCALID:AAMU Calendar Major Field Test (MFT) 20220411T040000
X-WR-TIMEZONE:Europe/London
X-WR-CALNAME:AAMU Calendar
BEGIN:VEVENT
URL;VALUE=URI:https://www.aamu.edu/calendar/index.php?eID=2570
DTSTART:20220411T040000
DTEND:20220411T050000
SUMMARY:Major Field Test (MFT)
DESCRIPTION:The Major Field Tests (MFTs) are innovative undergraduate and MBA outcome assessments designed to measure the basic knowledge and understanding achieved by students in a major field of study. Test... For complete event details please visit:  https://www.aamu.edu/calendar/?eID=2570\n______________________________\nEvent Downloaded Powered by OU Calendar
LOCATION:JF Drake Memorial LRC - Room 125 \, \, AL  
CATEGORIES:AAMU Calendar Events
PRIORITY:0
TRANSP:TRANSPARENT
END:VEVENT
END:VCALENDAR