BEGIN:VCALENDAR
VERSION:2.0
METHOD:PUBLISH
CALSCALE:GREGORIAN
PRODID:-//Helios Calendar//EN
X-FROM-URL:https://www.aamu.edu/calendar/index.php?eID=2593
X-WR-RELCALID:AAMU Calendar Career Preparedness Week, Student Internship Panel: Dos and Donuts 20220126T160000
X-WR-TIMEZONE:Europe/London
X-WR-CALNAME:AAMU Calendar
BEGIN:VEVENT
URL;VALUE=URI:https://www.aamu.edu/calendar/index.php?eID=2593
DTSTART:20220126T160000
DTEND:20220126T170000
SUMMARY:Career Preparedness Week\, Student Internship Panel: Dos and Donuts
DESCRIPTION:Career Development Services\, is proud to host a student panel.  Hear from students who have participated in a wide array of internships! Receive tips on how to look for internships and advice... For complete event details please visit:  https://www.aamu.edu/calendar/?eID=2593\n______________________________\nEvent Downloaded Powered by OU Calendar
LOCATION:Clyde Foster Multipurpose Room -  \, \, AL  
CATEGORIES:AAMU Calendar Events
PRIORITY:0
TRANSP:TRANSPARENT
END:VEVENT
END:VCALENDAR