BEGIN:VCALENDAR
VERSION:2.0
METHOD:PUBLISH
CALSCALE:GREGORIAN
PRODID:-//Helios Calendar//EN
X-FROM-URL:https://www.aamu.edu/calendar/index.php?eID=2595
X-WR-RELCALID:AAMU Calendar Career Preparedness Week, Resume Reviews + Mock Interviews 20220128T110000
X-WR-TIMEZONE:Europe/London
X-WR-CALNAME:AAMU Calendar
BEGIN:VEVENT
URL;VALUE=URI:https://www.aamu.edu/calendar/index.php?eID=2595
DTSTART:20220128T110000
DTEND:20220128T140000
SUMMARY:Career Preparedness Week\, Resume Reviews + Mock Interviews
DESCRIPTION:Career Development Services (CDS) is please to invite students/alumni to participate in our Spring 2022 Career Preparedness Week\, Resume Reviews.This is an opportunity for AAMU students/alumni to... For complete event details please visit:  https://www.aamu.edu/calendar/?eID=2595\n______________________________\nEvent Downloaded Powered by OU Calendar
LOCATION:Virtual - NA NA\, NA\, AL NA NA
CATEGORIES:AAMU Calendar Events
PRIORITY:0
TRANSP:TRANSPARENT
END:VEVENT
END:VCALENDAR