BEGIN:VCALENDAR
VERSION:2.0
METHOD:PUBLISH
CALSCALE:GREGORIAN
PRODID:-//Helios Calendar//EN
X-FROM-URL:https://www.aamu.edu/calendar/index.php?eID=2599
X-WR-RELCALID:AAMU Calendar Work-it Wednesday Workshop, Communicating Effectively within a Multigenerational Workplace 20220216T160000
X-WR-TIMEZONE:Europe/London
X-WR-CALNAME:AAMU Calendar
BEGIN:VEVENT
URL;VALUE=URI:https://www.aamu.edu/calendar/index.php?eID=2599
DTSTART:20220216T160000
DTEND:20220216T170000
SUMMARY:Work-it Wednesday Workshop\, Communicating Effectively within a Multigenerational Workplace
DESCRIPTION:Work-It Wednesday Workshops are the Pathways to Success. Workshop topics include career\, professional and personal development programs for all phases of a student's journey. For complete event details please visit:  https://www.aamu.edu/calendar/?eID=2599\n______________________________\nEvent Downloaded Powered by OU Calendar
LOCATION:Virtual - NA NA\, NA\, AL NA NA
CATEGORIES:AAMU Calendar Events
PRIORITY:0
TRANSP:TRANSPARENT
END:VEVENT
END:VCALENDAR