BEGIN:VCALENDAR
VERSION:2.0
METHOD:PUBLISH
CALSCALE:GREGORIAN
PRODID:-//Helios Calendar//EN
X-FROM-URL:https://www.aamu.edu/calendar/index.php?eID=2605
X-WR-RELCALID:AAMU Calendar Spring 2022 Career Week, Career Fair, Day 2 [Virtual] 20220317T100000
X-WR-TIMEZONE:Europe/London
X-WR-CALNAME:AAMU Calendar
BEGIN:VEVENT
URL;VALUE=URI:https://www.aamu.edu/calendar/index.php?eID=2605
DTSTART:20220317T100000
DTEND:20220317T140000
SUMMARY:Spring 2022 Career Week\, Career Fair\, Day 2 [Virtual]
DESCRIPTION:Career Development Services will host a 2-day virtual career fair March 16-17 in Handshake!Employers representing the private sector\, federal\, state and local government\, non-profits\, education... For complete event details please visit:  https://www.aamu.edu/calendar/?eID=2605\n______________________________\nEvent Downloaded Powered by OU Calendar
LOCATION:Virtual - NA NA\, NA\, AL NA NA
CATEGORIES:AAMU Calendar Events
PRIORITY:0
TRANSP:TRANSPARENT
END:VEVENT
END:VCALENDAR