BEGIN:VCALENDAR
VERSION:2.0
METHOD:PUBLISH
CALSCALE:GREGORIAN
PRODID:-//Helios Calendar//EN
X-FROM-URL:https://www.aamu.edu/calendar/index.php?eID=2609
X-WR-RELCALID:AAMU Calendar Youth Motivation Task Force Outreach Program, Mentoring Event 20220308T180000
X-WR-TIMEZONE:Europe/London
X-WR-CALNAME:AAMU Calendar
BEGIN:VEVENT
URL;VALUE=URI:https://www.aamu.edu/calendar/index.php?eID=2609
DTSTART:20220308T180000
DTEND:20220308T193000
SUMMARY:Youth Motivation Task Force Outreach Program\, Mentoring Event
DESCRIPTION:CDS is proud to host the YMTF Mentoring Program during the Outreach Program\, March 7-8.Students will be paired with Youth Motivation Task Force Mentors. Students are paired with mentors who are... For complete event details please visit:  https://www.aamu.edu/calendar/?eID=2609\n______________________________\nEvent Downloaded Powered by OU Calendar
LOCATION:Virtual - NA NA\, NA\, AL NA NA
CATEGORIES:AAMU Calendar Events
PRIORITY:0
TRANSP:TRANSPARENT
END:VEVENT
END:VCALENDAR