BEGIN:VCALENDAR
VERSION:2.0
METHOD:PUBLISH
CALSCALE:GREGORIAN
PRODID:-//Helios Calendar//EN
X-FROM-URL:https://www.aamu.edu/calendar/index.php?eID=2621
X-WR-RELCALID:AAMU Calendar International Student Spring 2022 Orientation  20220127T123000
X-WR-TIMEZONE:Europe/London
X-WR-CALNAME:AAMU Calendar
BEGIN:VEVENT
URL;VALUE=URI:https://www.aamu.edu/calendar/index.php?eID=2621
DTSTART:20220127T123000
DTEND:20220127T133000
SUMMARY:International Student Spring 2022 Orientation 
DESCRIPTION:Register in advance for this meeting:https://aamu.zoom.us/meeting/register/tJMoce-rrjkqGNAzj5r-R8iOkcy5z-_PYouhAfter registering\, you will receive a confirmation email containing information about... For complete event details please visit:  https://www.aamu.edu/calendar/?eID=2621\n______________________________\nEvent Downloaded Powered by OU Calendar
LOCATION:Zoom Meeting - Zoom Meeting \, Huntsville\, AL  35810
CATEGORIES:AAMU Calendar Events
PRIORITY:0
TRANSP:TRANSPARENT
END:VEVENT
END:VCALENDAR