BEGIN:VCALENDAR
VERSION:2.0
METHOD:PUBLISH
CALSCALE:GREGORIAN
PRODID:-//Helios Calendar//EN
X-FROM-URL:https://www.aamu.edu/calendar/index.php?eID=2635
X-WR-RELCALID:AAMU Calendar Deadline to Change from Credit to Audit and Audit to Credit 20220901
X-WR-TIMEZONE:Europe/London
X-WR-CALNAME:AAMU Calendar
BEGIN:VEVENT
URL;VALUE=URI:https://www.aamu.edu/calendar/index.php?eID=2635
DTSTART;VALUE=DATE:20220901
DTEND;VALUE=DATE:20220902
SUMMARY:Deadline to Change from Credit to Audit and Audit to Credit
DESCRIPTION:Deadline to Change from Credit to Audit and Audit to Credit For complete event details please visit:  https://www.aamu.edu/calendar/?eID=2635\n______________________________\nEvent Downloaded Powered by OU Calendar
LOCATION:AAMU Campus - 4900 Meridian Street \, Huntsville\, AL USA 35811
CATEGORIES:AAMU Calendar Events
PRIORITY:0
TRANSP:TRANSPARENT
END:VEVENT
END:VCALENDAR