BEGIN:VCALENDAR
VERSION:2.0
METHOD:PUBLISH
CALSCALE:GREGORIAN
PRODID:-//Helios Calendar//EN
X-FROM-URL:https://www.aamu.edu/calendar/index.php?eID=2638
X-WR-RELCALID:AAMU Calendar Deadline to Remove Incomplete Grades and Course Substitutions for December Graduates (except Thesis Candidates) 20220920
X-WR-TIMEZONE:Europe/London
X-WR-CALNAME:AAMU Calendar
BEGIN:VEVENT
URL;VALUE=URI:https://www.aamu.edu/calendar/index.php?eID=2638
DTSTART;VALUE=DATE:20220920
DTEND;VALUE=DATE:20220921
SUMMARY:Deadline to Remove Incomplete Grades and Course Substitutions for December Graduates (except Thesis Candidates)
DESCRIPTION:Deadline to Remove Incomplete Grades and Course Substitutions for December Graduates (except Thesis Candidates) For complete event details please visit:  https://www.aamu.edu/calendar/?eID=2638\n______________________________\nEvent Downloaded Powered by OU Calendar
LOCATION:AAMU Campus - 4900 Meridian Street \, Huntsville\, AL USA 35811
CATEGORIES:AAMU Calendar Events
PRIORITY:0
TRANSP:TRANSPARENT
END:VEVENT
END:VCALENDAR