BEGIN:VCALENDAR
VERSION:2.0
METHOD:PUBLISH
CALSCALE:GREGORIAN
PRODID:-//Helios Calendar//EN
X-FROM-URL:https://www.aamu.edu/calendar/index.php?eID=2693
X-WR-RELCALID:AAMU Calendar New Students Arrive and Continuing Students Return 20230108
X-WR-TIMEZONE:Europe/London
X-WR-CALNAME:AAMU Calendar
BEGIN:VEVENT
URL;VALUE=URI:https://www.aamu.edu/calendar/index.php?eID=2693
DTSTART;VALUE=DATE:20230108
DTEND;VALUE=DATE:20230109
SUMMARY:New Students Arrive and Continuing Students Return
DESCRIPTION:New Students Arrive and Continuing Students Return For complete event details please visit:  https://www.aamu.edu/calendar/?eID=2693\n______________________________\nEvent Downloaded Powered by OU Calendar
LOCATION:AAMU Campus - 4900 Meridian Street \, Huntsville\, AL USA 35811
CATEGORIES:AAMU Calendar Events
PRIORITY:0
TRANSP:TRANSPARENT
END:VEVENT
END:VCALENDAR