BEGIN:VCALENDAR
VERSION:2.0
METHOD:PUBLISH
CALSCALE:GREGORIAN
PRODID:-//Helios Calendar//EN
X-FROM-URL:https://www.aamu.edu/calendar/index.php?eID=2767
X-WR-RELCALID:AAMU Calendar From Plantation to Presidency, Dr. Virginia Caples 20220301T100000
X-WR-TIMEZONE:Europe/London
X-WR-CALNAME:AAMU Calendar
BEGIN:VEVENT
URL;VALUE=URI:https://www.aamu.edu/calendar/index.php?eID=2767
DTSTART:20220301T100000
DTEND:20220301T110000
SUMMARY:From Plantation to Presidency\, Dr. Virginia Caples
DESCRIPTION:Register: www.aces.edu/go/CaplesThe Virginia Caples Lifelong Learning Institute (VCLLI) is named in honor of the late 1890 Extension Administrator Dr. Virginia Caples\, who had the vision... For complete event details please visit:  https://www.aamu.edu/calendar/?eID=2767\n______________________________\nEvent Downloaded Powered by OU Calendar
LOCATION:Zoom Meeting - Zoom Meeting \, Huntsville\, AL  35810
CATEGORIES:AAMU Calendar Events
PRIORITY:0
TRANSP:TRANSPARENT
END:VEVENT
END:VCALENDAR