BEGIN:VCALENDAR
VERSION:2.0
METHOD:PUBLISH
CALSCALE:GREGORIAN
PRODID:-//Helios Calendar//EN
X-FROM-URL:https://www.aamu.edu/calendar/index.php?eID=2773
X-WR-RELCALID:AAMU Calendar 2022 Class Reunion 20220505T140000
X-WR-TIMEZONE:Europe/London
X-WR-CALNAME:AAMU Calendar
BEGIN:VEVENT
URL;VALUE=URI:https://www.aamu.edu/calendar/index.php?eID=2773
DTSTART:20220505T140000
DTEND:20220506T120000
SUMMARY:2022 Class Reunion
DESCRIPTION:The Alabama A&M University invites you to come back home to Normal for The Best ReYOUion Ever Weekend celebrating classes ending in 2 & 7. Please join us for the exciting events we have planned... For complete event details please visit:  https://www.aamu.edu/calendar/?eID=2773\n______________________________\nEvent Downloaded Powered by OU Calendar
LOCATION:Ernest Knight Reception Center -  \, \, AL  
CATEGORIES:AAMU Calendar Events
PRIORITY:0
TRANSP:TRANSPARENT
END:VEVENT
END:VCALENDAR