BEGIN:VCALENDAR
VERSION:2.0
METHOD:PUBLISH
CALSCALE:GREGORIAN
PRODID:-//Helios Calendar//EN
X-FROM-URL:https://www.aamu.edu/calendar/index.php?eID=2774
X-WR-RELCALID:AAMU Calendar Alumni Engagement Week 20220310T183000
X-WR-TIMEZONE:Europe/London
X-WR-CALNAME:AAMU Calendar
BEGIN:VEVENT
URL;VALUE=URI:https://www.aamu.edu/calendar/index.php?eID=2774
DTSTART:20220310T183000
DTEND:20220310T203000
SUMMARY:Alumni Engagement Week
DESCRIPTION:The Office of Alumni Affairs will host an Alumni Chat & Chew on Thursday\, March 10th @ 6:30 PM CST.  All Alumni are invited to attend.  Registration is required for the Chat &... For complete event details please visit:  https://www.aamu.edu/calendar/?eID=2774\n______________________________\nEvent Downloaded Powered by OU Calendar
LOCATION:Ernest Knight Reception Center -  \, \, AL  
CATEGORIES:AAMU Calendar Events
PRIORITY:0
TRANSP:TRANSPARENT
END:VEVENT
END:VCALENDAR