BEGIN:VCALENDAR
VERSION:2.0
METHOD:PUBLISH
CALSCALE:GREGORIAN
PRODID:-//Helios Calendar//EN
X-FROM-URL:https://www.aamu.edu/calendar/index.php?eID=2775
X-WR-RELCALID:AAMU Calendar Virtual Alumni Talk - An Alumni Listening Session with #12 20220308T183000
X-WR-TIMEZONE:Europe/London
X-WR-CALNAME:AAMU Calendar
BEGIN:VEVENT
URL;VALUE=URI:https://www.aamu.edu/calendar/index.php?eID=2775
DTSTART:20220308T183000
DTEND:20220308T200000
SUMMARY:Virtual Alumni Talk - An Alumni Listening Session with #12
DESCRIPTION:The Alumni Office will host a Virtual Alumni Listening Session with special guest President Wims on Tuesday\, March 8th @ 6:30 PM (CST).   The purpose of the listening session is... For complete event details please visit:  https://www.aamu.edu/calendar/?eID=2775\n______________________________\nEvent Downloaded Powered by OU Calendar
LOCATION:Zoom Meeting - Zoom Meeting \, Huntsville\, AL  35810
CATEGORIES:AAMU Calendar Events
PRIORITY:0
TRANSP:TRANSPARENT
END:VEVENT
END:VCALENDAR