BEGIN:VCALENDAR
VERSION:2.0
METHOD:PUBLISH
CALSCALE:GREGORIAN
PRODID:-//Helios Calendar//EN
X-FROM-URL:https://www.aamu.edu/calendar/index.php?eID=2777
X-WR-RELCALID:AAMU Calendar George Washington Carver National Historical Park - Digital Experience 20220318T123000
X-WR-TIMEZONE:Europe/London
X-WR-CALNAME:AAMU Calendar
BEGIN:VEVENT
URL;VALUE=URI:https://www.aamu.edu/calendar/index.php?eID=2777
DTSTART:20220318T123000
DTEND:20220318T133000
SUMMARY:George Washington Carver National Historical Park - Digital Experience
DESCRIPTION:Virginia Caples Lifelong Learning Institute Spring 2022 Courses & ActivitiesJoin us online Friday\, February 4\, 2022\, at 12:30 a.m. for a digital experience of the George Washington Carver... For complete event details please visit:  https://www.aamu.edu/calendar/?eID=2777\n______________________________\nEvent Downloaded Powered by OU Calendar
LOCATION:Zoom Meeting - Zoom Meeting \, Huntsville\, AL  35810
CATEGORIES:AAMU Calendar Events
PRIORITY:0
TRANSP:TRANSPARENT
END:VEVENT
END:VCALENDAR