BEGIN:VCALENDAR
VERSION:2.0
METHOD:PUBLISH
CALSCALE:GREGORIAN
PRODID:-//Helios Calendar//EN
X-FROM-URL:https://www.aamu.edu/calendar/index.php?eID=2778
X-WR-RELCALID:AAMU Calendar Georgia Aquarium Digital Experience 20220318T100000
X-WR-TIMEZONE:Europe/London
X-WR-CALNAME:AAMU Calendar
BEGIN:VEVENT
URL;VALUE=URI:https://www.aamu.edu/calendar/index.php?eID=2778
DTSTART:20220318T100000
DTEND:20220318T110000
SUMMARY:Georgia Aquarium Digital Experience
DESCRIPTION:Virginia Caples Lifelong Learning Institute Spring 2022 Courses & ActivitiesJoin us online Friday\, March 18\, 2022\, at 10:00 a.m. for a digital experience of the Georgia Aquarium.Registration... For complete event details please visit:  https://www.aamu.edu/calendar/?eID=2778\n______________________________\nEvent Downloaded Powered by OU Calendar
LOCATION:Zoom Meeting - Zoom Meeting \, Huntsville\, AL  35810
CATEGORIES:AAMU Calendar Events
PRIORITY:0
TRANSP:TRANSPARENT
END:VEVENT
END:VCALENDAR