BEGIN:VCALENDAR
VERSION:2.0
METHOD:PUBLISH
CALSCALE:GREGORIAN
PRODID:-//Helios Calendar//EN
X-FROM-URL:https://www.aamu.edu/calendar/index.php?eID=2779
X-WR-RELCALID:AAMU Calendar You Don’t Know My Story 2.0 - Online Series 20220322T090000
X-WR-TIMEZONE:Europe/London
X-WR-CALNAME:AAMU Calendar
BEGIN:VEVENT
URL;VALUE=URI:https://www.aamu.edu/calendar/index.php?eID=2779
DTSTART:20220322T090000
DTEND:20220322T100000
SUMMARY:You Don’t Know My Story 2.0 - Online Series
DESCRIPTION:Virginia Caples Lifelong Learning Institute Spring 2022 Courses & ActivitiesSo\, you’ve written or recorded your story in some manner. What’s next? This series explores the various... For complete event details please visit:  https://www.aamu.edu/calendar/?eID=2779\n______________________________\nEvent Downloaded Powered by OU Calendar
LOCATION:Zoom Meeting - Zoom Meeting \, Huntsville\, AL  35810
CATEGORIES:AAMU Calendar Events
PRIORITY:0
TRANSP:TRANSPARENT
END:VEVENT
END:VCALENDAR