BEGIN:VCALENDAR
VERSION:2.0
METHOD:PUBLISH
CALSCALE:GREGORIAN
PRODID:-//Helios Calendar//EN
X-FROM-URL:https://www.aamu.edu/calendar/index.php?eID=2786
X-WR-RELCALID:AAMU Calendar Publishing Opportunity for AAMU Students! 20220407T123000
X-WR-TIMEZONE:Europe/London
X-WR-CALNAME:AAMU Calendar
BEGIN:VEVENT
URL;VALUE=URI:https://www.aamu.edu/calendar/index.php?eID=2786
DTSTART:20220407T123000
DTEND:20220407T140000
SUMMARY:Publishing Opportunity for AAMU Students!
DESCRIPTION:INTERESTED IN PUBLISHING? JOIN US!This interactive session offers guidance about the field of publishing\, as well as information about paid internships.WHEN: Thursday\, April 7\, 12:30pWHERE:... For complete event details please visit:  https://www.aamu.edu/calendar/?eID=2786\n______________________________\nEvent Downloaded Powered by OU Calendar
LOCATION:Carver Complex North Wing (CCN) -  \, \, AL  
CATEGORIES:AAMU Calendar Events
PRIORITY:0
TRANSP:TRANSPARENT
END:VEVENT
END:VCALENDAR