BEGIN:VCALENDAR
VERSION:2.0
METHOD:PUBLISH
CALSCALE:GREGORIAN
PRODID:-//Helios Calendar//EN
X-FROM-URL:https://www.aamu.edu/calendar/index.php?eID=2788
X-WR-RELCALID:AAMU Calendar Curricular Practical Training and Optional Practical Training Webinar for F-1 Students  20220412T123000
X-WR-TIMEZONE:Europe/London
X-WR-CALNAME:AAMU Calendar
BEGIN:VEVENT
URL;VALUE=URI:https://www.aamu.edu/calendar/index.php?eID=2788
DTSTART:20220412T123000
DTEND:20220412T133000
SUMMARY:Curricular Practical Training and Optional Practical Training Webinar for F-1 Students 
DESCRIPTION:During this webinar\, the DSO will cover the process for applying for Curricular Practical Training (CPT) and Optional Practical Training (OPT).  Register in advance at https://aamu.zoom.us/meeting/register/tJckcumhpz8uEt1Q-iu_cFbeIXeMY-_Dsb23After... For complete event details please visit:  https://www.aamu.edu/calendar/?eID=2788\n______________________________\nEvent Downloaded Powered by OU Calendar
LOCATION:Zoom Meeting - Zoom Meeting \, Huntsville\, AL  35810
CATEGORIES:AAMU Calendar Events
PRIORITY:0
TRANSP:TRANSPARENT
END:VEVENT
END:VCALENDAR