BEGIN:VCALENDAR
VERSION:2.0
METHOD:PUBLISH
CALSCALE:GREGORIAN
PRODID:-//Helios Calendar//EN
X-FROM-URL:https://www.aamu.edu/calendar/index.php?eID=2792
X-WR-RELCALID:AAMU Calendar Virtual Listening Session with President Wims 20220412T120000
X-WR-TIMEZONE:Europe/London
X-WR-CALNAME:AAMU Calendar
BEGIN:VEVENT
URL;VALUE=URI:https://www.aamu.edu/calendar/index.php?eID=2792
DTSTART:20220412T120000
DTEND:20220412T133000
SUMMARY:Virtual Listening Session with President Wims
DESCRIPTION:Join the College of Agricultural\, Life\, and Natural Sciences and the Alabama Cooperative Extension System at AAMU for a Virtual Listening Session with President Wims - Tuesday\, April 12 from... For complete event details please visit:  https://www.aamu.edu/calendar/?eID=2792\n______________________________\nEvent Downloaded Powered by OU Calendar
LOCATION:Zoom Meeting - Zoom Meeting \, Huntsville\, AL  35810
CATEGORIES:AAMU Calendar Events
PRIORITY:0
TRANSP:TRANSPARENT
END:VEVENT
END:VCALENDAR