BEGIN:VCALENDAR
VERSION:2.0
METHOD:PUBLISH
CALSCALE:GREGORIAN
PRODID:-//Helios Calendar//EN
X-FROM-URL:https://www.aamu.edu/calendar/index.php?eID=2793
X-WR-RELCALID:AAMU Calendar On-Campus Reception with President Wims 20220414T160000
X-WR-TIMEZONE:Europe/London
X-WR-CALNAME:AAMU Calendar
BEGIN:VEVENT
URL;VALUE=URI:https://www.aamu.edu/calendar/index.php?eID=2793
DTSTART:20220414T160000
DTEND:20220414T180000
SUMMARY:On-Campus Reception with President Wims
DESCRIPTION:This is the second investiture event hosted by the College of Agricultural\, Life\, and Natural Sciences and the Alabama Cooperative Extension System at AAMU. Thursday\, April 14 from 4:00-6:00... For complete event details please visit:  https://www.aamu.edu/calendar/?eID=2793\n______________________________\nEvent Downloaded Powered by OU Calendar
LOCATION:Ernest Knight Reception Center -  \, \, AL  
CATEGORIES:AAMU Calendar Events
PRIORITY:0
TRANSP:TRANSPARENT
END:VEVENT
END:VCALENDAR