BEGIN:VCALENDAR
VERSION:2.0
METHOD:PUBLISH
CALSCALE:GREGORIAN
PRODID:-//Helios Calendar//EN
X-FROM-URL:https://www.aamu.edu/calendar/index.php?eID=2794
X-WR-RELCALID:AAMU Calendar English Department: Lollapalooza! 20220419T123000
X-WR-TIMEZONE:Europe/London
X-WR-CALNAME:AAMU Calendar
BEGIN:VEVENT
URL;VALUE=URI:https://www.aamu.edu/calendar/index.php?eID=2794
DTSTART:20220419T123000
DTEND:20220419T134500
SUMMARY:English Department: Lollapalooza!
DESCRIPTION:The Department of English and Foreign Languages presents: Lollapalooza: Scenes and Sounds of Spring" on Tuesday\, April 19\, 2022\, 12:30pm-1:45pm. Join us for awards\, poetry\, art\, club info\, fall class... For complete event details please visit:  https://www.aamu.edu/calendar/?eID=2794\n______________________________\nEvent Downloaded Powered by OU Calendar
LOCATION:English Department - McCalep-Macintosh Building \, Huntsville\, AL  35811
CATEGORIES:AAMU Calendar Events
PRIORITY:0
TRANSP:TRANSPARENT
END:VEVENT
END:VCALENDAR