BEGIN:VCALENDAR
VERSION:2.0
METHOD:PUBLISH
CALSCALE:GREGORIAN
PRODID:-//Helios Calendar//EN
X-FROM-URL:https://www.aamu.edu/calendar/index.php?eID=2796
X-WR-RELCALID:AAMU Calendar Ask Me Anything--Write Place Virtual Drop-In 20220420T120000
X-WR-TIMEZONE:Europe/London
X-WR-CALNAME:AAMU Calendar
BEGIN:VEVENT
URL;VALUE=URI:https://www.aamu.edu/calendar/index.php?eID=2796
DTSTART:20220420T120000
DTEND:20220420T150000
SUMMARY:Ask Me Anything--Write Place Virtual Drop-In
DESCRIPTION:Do you have a random writing question? We're here to answer it! Drop in on Wednesday\, April 20 or Monday April 25th from 12p-3p. Get your quick questions answered before turning in the final paper... For complete event details please visit:  https://www.aamu.edu/calendar/?eID=2796\n______________________________\nEvent Downloaded Powered by OU Calendar
LOCATION:Zoom Meeting - Zoom Meeting \, Huntsville\, AL  35810
CATEGORIES:AAMU Calendar Events
PRIORITY:0
TRANSP:TRANSPARENT
END:VEVENT
END:VCALENDAR