BEGIN:VCALENDAR
VERSION:2.0
METHOD:PUBLISH
CALSCALE:GREGORIAN
PRODID:-//Helios Calendar//EN
X-FROM-URL:https://www.aamu.edu/calendar/index.php?eID=2813
X-WR-RELCALID:AAMU Calendar Back 2 Basics: Online Gardening and Landscaping Series 20220511T100000
X-WR-TIMEZONE:Europe/London
X-WR-CALNAME:AAMU Calendar
BEGIN:VEVENT
URL;VALUE=URI:https://www.aamu.edu/calendar/index.php?eID=2813
DTSTART:20220511T100000
DTEND:20220511T110000
SUMMARY:Back 2 Basics: Online Gardening and Landscaping Series
DESCRIPTION:Join the Home Grounds team online to learn the basics of limited space gardening and landscaping for urban areas.This educational webinar series provides adult online training on basic gardening... For complete event details please visit:  https://www.aamu.edu/calendar/?eID=2813\n______________________________\nEvent Downloaded Powered by OU Calendar
LOCATION:Zoom Meeting - Zoom Meeting \, Huntsville\, AL  35810
CATEGORIES:AAMU Calendar Events
PRIORITY:0
TRANSP:TRANSPARENT
END:VEVENT
END:VCALENDAR