BEGIN:VCALENDAR
VERSION:2.0
METHOD:PUBLISH
CALSCALE:GREGORIAN
PRODID:-//Helios Calendar//EN
X-FROM-URL:https://www.aamu.edu/calendar/index.php?eID=2815
X-WR-RELCALID:AAMU Calendar Dementia Friendly Alabama - Webinar Series 20220512T230000
X-WR-TIMEZONE:Europe/London
X-WR-CALNAME:AAMU Calendar
BEGIN:VEVENT
URL;VALUE=URI:https://www.aamu.edu/calendar/index.php?eID=2815
DTSTART:20220512T230000
DTEND:20220513T120000
SUMMARY:Dementia Friendly Alabama - Webinar Series
DESCRIPTION:Virginia Caples Lifelong Learning Institute Spring 2022 Courses & ActivitiesOnline with Zoom. Register: www.aces.edu/go/DementiaFriendlyImagine a community where people with dementia... For complete event details please visit:  https://www.aamu.edu/calendar/?eID=2815\n______________________________\nEvent Downloaded Powered by OU Calendar
LOCATION:Zoom Meeting - Zoom Meeting \, Huntsville\, AL  35810
CATEGORIES:AAMU Calendar Events
PRIORITY:0
TRANSP:TRANSPARENT
END:VEVENT
END:VCALENDAR