BEGIN:VCALENDAR
VERSION:2.0
METHOD:PUBLISH
CALSCALE:GREGORIAN
PRODID:-//Helios Calendar//EN
X-FROM-URL:https://www.aamu.edu/calendar/index.php?eID=2817
X-WR-RELCALID:AAMU Calendar Eco-Friendly Friday: Environmental Education 20220513T110000
X-WR-TIMEZONE:Europe/London
X-WR-CALNAME:AAMU Calendar
BEGIN:VEVENT
URL;VALUE=URI:https://www.aamu.edu/calendar/index.php?eID=2817
DTSTART:20220513T110000
DTEND:20220513T114500
SUMMARY:Eco-Friendly Friday: Environmental Education
DESCRIPTION:co-Friendly Fridays is an environmental education webinar series. Join the team for training sessions on traditional conservation topics as well as new and emerging issues in environmental education.... For complete event details please visit:  https://www.aamu.edu/calendar/?eID=2817\n______________________________\nEvent Downloaded Powered by OU Calendar
LOCATION:Zoom Meeting - Zoom Meeting \, Huntsville\, AL  35810
CATEGORIES:AAMU Calendar Events
PRIORITY:0
TRANSP:TRANSPARENT
END:VEVENT
END:VCALENDAR