BEGIN:VCALENDAR
VERSION:2.0
METHOD:PUBLISH
CALSCALE:GREGORIAN
PRODID:-//Helios Calendar//EN
X-FROM-URL:https://www.aamu.edu/calendar/index.php?eID=2819
X-WR-RELCALID:AAMU Calendar Two Steppin' with Nkenge - Online 20220513T100000
X-WR-TIMEZONE:Europe/London
X-WR-CALNAME:AAMU Calendar
BEGIN:VEVENT
URL;VALUE=URI:https://www.aamu.edu/calendar/index.php?eID=2819
DTSTART:20220513T100000
DTEND:20220513T110000
SUMMARY:Two Steppin' with Nkenge - Online
DESCRIPTION:Virginia Caples Lifelong Learning Institute Spring 2022 Courses & ActivitiesOnline stepping exercise class Registration: www.aces.edu/go/2SteppinPresenter: Nkenge Hyter\, Urban... For complete event details please visit:  https://www.aamu.edu/calendar/?eID=2819\n______________________________\nEvent Downloaded Powered by OU Calendar
LOCATION:Zoom Meeting - Zoom Meeting \, Huntsville\, AL  35810
CATEGORIES:AAMU Calendar Events
PRIORITY:0
TRANSP:TRANSPARENT
END:VEVENT
END:VCALENDAR