BEGIN:VCALENDAR
VERSION:2.0
METHOD:PUBLISH
CALSCALE:GREGORIAN
PRODID:-//Helios Calendar//EN
X-FROM-URL:https://www.aamu.edu/calendar/index.php?eID=2824
X-WR-RELCALID:AAMU Calendar AAMU Fall 2022 Part-time Job Fair 20220830T110000
X-WR-TIMEZONE:Europe/London
X-WR-CALNAME:AAMU Calendar
BEGIN:VEVENT
URL;VALUE=URI:https://www.aamu.edu/calendar/index.php?eID=2824
DTSTART:20220830T110000
DTEND:20220830T140000
SUMMARY:AAMU Fall 2022 Part-time Job Fair
DESCRIPTION:Career Development Services is please to invite AAMU students and alumni to participate in our Fall 2022 Part-time Job Fair on August 30. This is an opportunity for AAMU students to network with recruiters.... For complete event details please visit:  https://www.aamu.edu/calendar/?eID=2824\n______________________________\nEvent Downloaded Powered by OU Calendar
LOCATION:Ernest Knight Reception Center -  \, \, AL  
CATEGORIES:AAMU Calendar Events
PRIORITY:0
TRANSP:TRANSPARENT
END:VEVENT
END:VCALENDAR