BEGIN:VCALENDAR
VERSION:2.0
METHOD:PUBLISH
CALSCALE:GREGORIAN
PRODID:-//Helios Calendar//EN
X-FROM-URL:https://www.aamu.edu/calendar/index.php?eID=2825
X-WR-RELCALID:AAMU Calendar Career Preparedness Week, Graduation, Handshake + LinkedIn Headshots [In Person] 20220913T110000
X-WR-TIMEZONE:Europe/London
X-WR-CALNAME:AAMU Calendar
BEGIN:VEVENT
URL;VALUE=URI:https://www.aamu.edu/calendar/index.php?eID=2825
DTSTART:20220913T110000
DTEND:20220913T140000
SUMMARY:Career Preparedness Week\, Graduation\, Handshake + LinkedIn Headshots [In Person]
DESCRIPTION:Career Development Services\, in partnership with the AAMU Cluster and Event sponsors\, are proud to offer AAMU students and alumni free headshot photography.  Students are encouraged to dress... For complete event details please visit:  https://www.aamu.edu/calendar/?eID=2825\n______________________________\nEvent Downloaded Powered by OU Calendar
LOCATION:Ernest Knight Reception Center -  \, \, AL  
CATEGORIES:AAMU Calendar Events
PRIORITY:0
TRANSP:TRANSPARENT
END:VEVENT
END:VCALENDAR