BEGIN:VCALENDAR
VERSION:2.0
METHOD:PUBLISH
CALSCALE:GREGORIAN
PRODID:-//Helios Calendar//EN
X-FROM-URL:https://www.aamu.edu/calendar/index.php?eID=2827
X-WR-RELCALID:AAMU Calendar Resume Building + Interview Workshop 20220921T173000
X-WR-TIMEZONE:Europe/London
X-WR-CALNAME:AAMU Calendar
BEGIN:VEVENT
URL;VALUE=URI:https://www.aamu.edu/calendar/index.php?eID=2827
DTSTART:20220921T173000
DTEND:20220921T183000
SUMMARY:Resume Building + Interview Workshop
DESCRIPTION:CDS is pleased to host a Resume Building and Interview Workshop in partnership with Alpha Phi Alpha Fraternity\, Inc. For complete event details please visit:  https://www.aamu.edu/calendar/?eID=2827\n______________________________\nEvent Downloaded Powered by OU Calendar
LOCATION:Andrew & Abbiegail Hugine Living Learning Complex - 4900 Meridian Street \, Normal\, AL  35762
CATEGORIES:AAMU Calendar Events
PRIORITY:0
TRANSP:TRANSPARENT
END:VEVENT
END:VCALENDAR