BEGIN:VCALENDAR
VERSION:2.0
METHOD:PUBLISH
CALSCALE:GREGORIAN
PRODID:-//Helios Calendar//EN
X-FROM-URL:https://www.aamu.edu/calendar/index.php?eID=2830
X-WR-RELCALID:AAMU Calendar AAMU Fall 2022 Career Week > Speed Networking [In Person] 20221005T150000
X-WR-TIMEZONE:Europe/London
X-WR-CALNAME:AAMU Calendar
BEGIN:VEVENT
URL;VALUE=URI:https://www.aamu.edu/calendar/index.php?eID=2830
DTSTART:20221005T150000
DTEND:20221005T170000
SUMMARY:AAMU Fall 2022 Career Week > Speed Networking [In Person]
DESCRIPTION:Career Development Services will host Speed Networking during the Fall 2022 Career Week.  This event will be in-person.Speed networking is a structured and fast paced event that allows students... For complete event details please visit:  https://www.aamu.edu/calendar/?eID=2830\n______________________________\nEvent Downloaded Powered by OU Calendar
LOCATION:Ernest Knight Reception Center -  \, \, AL  
CATEGORIES:AAMU Calendar Events
PRIORITY:0
TRANSP:TRANSPARENT
END:VEVENT
END:VCALENDAR