BEGIN:VCALENDAR
VERSION:2.0
METHOD:PUBLISH
CALSCALE:GREGORIAN
PRODID:-//Helios Calendar//EN
X-FROM-URL:https://www.aamu.edu/calendar/index.php?eID=2831
X-WR-RELCALID:AAMU Calendar AAMU Fall 2022 Career Week, Career Fair [In Person] 20221006T100000
X-WR-TIMEZONE:Europe/London
X-WR-CALNAME:AAMU Calendar
BEGIN:VEVENT
URL;VALUE=URI:https://www.aamu.edu/calendar/index.php?eID=2831
DTSTART:20221006T100000
DTEND:20221006T140000
SUMMARY:AAMU Fall 2022 Career Week\, Career Fair [In Person]
DESCRIPTION:Career Development Services will host the Career Fair during the Fall 2022 Career Week.  This event will be in-person.The Career Fair will be conducted in an exhibit setting in the Student... For complete event details please visit:  https://www.aamu.edu/calendar/?eID=2831\n______________________________\nEvent Downloaded Powered by OU Calendar
LOCATION:Student Health and Wellness Center (SHWC) -  \, \, AL  
CATEGORIES:AAMU Calendar Events
PRIORITY:0
TRANSP:TRANSPARENT
END:VEVENT
END:VCALENDAR