BEGIN:VCALENDAR
VERSION:2.0
METHOD:PUBLISH
CALSCALE:GREGORIAN
PRODID:-//Helios Calendar//EN
X-FROM-URL:https://www.aamu.edu/calendar/index.php?eID=2832
X-WR-RELCALID:AAMU Calendar AAMU Fall 2022 Career Week, Interview Day [In Person] 20221007T120000
X-WR-TIMEZONE:Europe/London
X-WR-CALNAME:AAMU Calendar
BEGIN:VEVENT
URL;VALUE=URI:https://www.aamu.edu/calendar/index.php?eID=2832
DTSTART:20221007T120000
DTEND:20221007T130000
SUMMARY:AAMU Fall 2022 Career Week\, Interview Day [In Person]
DESCRIPTION:Career Development Services will host Interview Day on October 7.  Interview Day is conducted in the Student Health and Wellness Center the day following the career fair. Employers... For complete event details please visit:  https://www.aamu.edu/calendar/?eID=2832\n______________________________\nEvent Downloaded Powered by OU Calendar
LOCATION:Student Health and Wellness Center (SHWC) -  \, \, AL  
CATEGORIES:AAMU Calendar Events
PRIORITY:0
TRANSP:TRANSPARENT
END:VEVENT
END:VCALENDAR