BEGIN:VCALENDAR
VERSION:2.0
METHOD:PUBLISH
CALSCALE:GREGORIAN
PRODID:-//Helios Calendar//EN
X-FROM-URL:https://www.aamu.edu/calendar/index.php?eID=2833
X-WR-RELCALID:AAMU Calendar AAMU Fall 2022 Career Week > Resume Reviews [In Person] 20221005T110000
X-WR-TIMEZONE:Europe/London
X-WR-CALNAME:AAMU Calendar
BEGIN:VEVENT
URL;VALUE=URI:https://www.aamu.edu/calendar/index.php?eID=2833
DTSTART:20221005T110000
DTEND:20221005T140000
SUMMARY:AAMU Fall 2022 Career Week > Resume Reviews [In Person]
DESCRIPTION:Career Development Services will host employer driven resume reviews on October 5.This event helps Alabama A&M University students prepare for the career fair and interview process by allowing... For complete event details please visit:  https://www.aamu.edu/calendar/?eID=2833\n______________________________\nEvent Downloaded Powered by OU Calendar
LOCATION:Ernest Knight Reception Center -  \, \, AL  
CATEGORIES:AAMU Calendar Events
PRIORITY:0
TRANSP:TRANSPARENT
END:VEVENT
END:VCALENDAR