BEGIN:VCALENDAR
VERSION:2.0
METHOD:PUBLISH
CALSCALE:GREGORIAN
PRODID:-//Helios Calendar//EN
X-FROM-URL:https://www.aamu.edu/calendar/index.php?eID=2835
X-WR-RELCALID:AAMU Calendar Federal Employment Preparation Week, How to Create a Federal Resume [In Person] 20221102T120000
X-WR-TIMEZONE:Europe/London
X-WR-CALNAME:AAMU Calendar
BEGIN:VEVENT
URL;VALUE=URI:https://www.aamu.edu/calendar/index.php?eID=2835
DTSTART:20221102T120000
DTEND:20221102T130000
SUMMARY:Federal Employment Preparation Week\, How to Create a Federal Resume [In Person]
DESCRIPTION:Career Development Services at Alabama A&M University is please to invite students and alumni to participate in our Fall 2022 Federal Employment Preparation Week\, How to Create a Federal Resume\,... For complete event details please visit:  https://www.aamu.edu/calendar/?eID=2835\n______________________________\nEvent Downloaded Powered by OU Calendar
LOCATION:Ernest Knight Reception Center -  \, \, AL  
CATEGORIES:AAMU Calendar Events
PRIORITY:0
TRANSP:TRANSPARENT
END:VEVENT
END:VCALENDAR