BEGIN:VCALENDAR
VERSION:2.0
METHOD:PUBLISH
CALSCALE:GREGORIAN
PRODID:-//Helios Calendar//EN
X-FROM-URL:https://www.aamu.edu/calendar/index.php?eID=2836
X-WR-RELCALID:AAMU Calendar Federal Employment Preparation Week, Resume Reviews + Mock Interviews [Virtual] 20221103T110000
X-WR-TIMEZONE:Europe/London
X-WR-CALNAME:AAMU Calendar
BEGIN:VEVENT
URL;VALUE=URI:https://www.aamu.edu/calendar/index.php?eID=2836
DTSTART:20221103T110000
DTEND:20221103T140000
SUMMARY:Federal Employment Preparation Week\, Resume Reviews + Mock Interviews [Virtual]
DESCRIPTION:Career Development Services at Alabama A&M University is please to invite students and alumni to participate in our Fall 2022 Federal Employment Preparation Week\, Resume Reviews and Mock Interviews\,... For complete event details please visit:  https://www.aamu.edu/calendar/?eID=2836\n______________________________\nEvent Downloaded Powered by OU Calendar
LOCATION:Virtual - NA NA\, NA\, AL NA NA
CATEGORIES:AAMU Calendar Events
PRIORITY:0
TRANSP:TRANSPARENT
END:VEVENT
END:VCALENDAR