BEGIN:VCALENDAR
VERSION:2.0
METHOD:PUBLISH
CALSCALE:GREGORIAN
PRODID:-//Helios Calendar//EN
X-FROM-URL:https://www.aamu.edu/calendar/index.php?eID=2842
X-WR-RELCALID:AAMU Calendar Eco-Friendly Friday: Environmental Education 20220610T110000
X-WR-TIMEZONE:Europe/London
X-WR-CALNAME:AAMU Calendar
BEGIN:VEVENT
URL;VALUE=URI:https://www.aamu.edu/calendar/index.php?eID=2842
DTSTART:20220610T110000
DTEND:20220610T120000
SUMMARY:Eco-Friendly Friday: Environmental Education
DESCRIPTION:Eco-Friendly Fridays is an environmental education webinar series of the Alabama Cooperative Extension System at Alabama A&M University. Join the natural resource management team for training... For complete event details please visit:  https://www.aamu.edu/calendar/?eID=2842\n______________________________\nEvent Downloaded Powered by OU Calendar
LOCATION:Zoom Meeting - Zoom Meeting \, Huntsville\, AL  35810
CATEGORIES:AAMU Calendar Events
PRIORITY:0
TRANSP:TRANSPARENT
END:VEVENT
END:VCALENDAR