BEGIN:VCALENDAR
VERSION:2.0
METHOD:PUBLISH
CALSCALE:GREGORIAN
PRODID:-//Helios Calendar//EN
X-FROM-URL:https://www.aamu.edu/calendar/index.php?eID=2847
X-WR-RELCALID:AAMU Calendar STEM in the Garden - Teacher Training Webinar Series 20220628T090000
X-WR-TIMEZONE:Europe/London
X-WR-CALNAME:AAMU Calendar
BEGIN:VEVENT
URL;VALUE=URI:https://www.aamu.edu/calendar/index.php?eID=2847
DTSTART:20220628T090000
DTEND:20220628T110000
SUMMARY:STEM in the Garden - Teacher Training Webinar Series
DESCRIPTION:The Alabama Extension home grounds team presents STEM in the Garden\, a teacher training workshop and webinar series. Join us online through Zoom Tuesday and Thursday mornings.For a school’s... For complete event details please visit:  https://www.aamu.edu/calendar/?eID=2847\n______________________________\nEvent Downloaded Powered by OU Calendar
LOCATION:Zoom Meeting - Zoom Meeting \, Huntsville\, AL  35810
CATEGORIES:AAMU Calendar Events
PRIORITY:0
TRANSP:TRANSPARENT
END:VEVENT
END:VCALENDAR