BEGIN:VCALENDAR
VERSION:2.0
METHOD:PUBLISH
CALSCALE:GREGORIAN
PRODID:-//Helios Calendar//EN
X-FROM-URL:https://www.aamu.edu/calendar/index.php?eID=2862
X-WR-RELCALID:AAMU Calendar The 'Write Place' is Open! 20220613
X-WR-TIMEZONE:Europe/London
X-WR-CALNAME:AAMU Calendar
BEGIN:VEVENT
URL;VALUE=URI:https://www.aamu.edu/calendar/index.php?eID=2862
DTSTART;VALUE=DATE:20220613
DTEND;VALUE=DATE:20220614
SUMMARY:The 'Write Place' is Open!
DESCRIPTION:Get writing help this summer online.Book your appointment at www.aamu.edu/writingcenter  For complete event details please visit:  https://www.aamu.edu/calendar/?eID=2862\n______________________________\nEvent Downloaded Powered by OU Calendar
LOCATION:Carver Complex North Wing (CCN) -  \, \, AL  
CATEGORIES:AAMU Calendar Events
PRIORITY:0
TRANSP:TRANSPARENT
END:VEVENT
END:VCALENDAR