BEGIN:VCALENDAR
VERSION:2.0
METHOD:PUBLISH
CALSCALE:GREGORIAN
PRODID:-//Helios Calendar//EN
X-FROM-URL:https://www.aamu.edu/calendar/index.php?eID=2890
X-WR-RELCALID:AAMU Calendar The 'Write Place' Summer Workshops 20220620T123000
X-WR-TIMEZONE:Europe/London
X-WR-CALNAME:AAMU Calendar
BEGIN:VEVENT
URL;VALUE=URI:https://www.aamu.edu/calendar/index.php?eID=2890
DTSTART:20220620T123000
DTEND:20220620T133000
SUMMARY:The 'Write Place' Summer Workshops
DESCRIPTION:Improve your writing this summer! Join our virtual workshops:June 6--Writing Process Zoom ID: 948 4825 1932June 13--Research ProcessZoom ID: 957 7751 0285June 21--How to Say... For complete event details please visit:  https://www.aamu.edu/calendar/?eID=2890\n______________________________\nEvent Downloaded Powered by OU Calendar
LOCATION:Carver Complex North Wing (CCN) -  \, \, AL  
CATEGORIES:AAMU Calendar Events
PRIORITY:0
TRANSP:TRANSPARENT
END:VEVENT
END:VCALENDAR