BEGIN:VCALENDAR
VERSION:2.0
METHOD:PUBLISH
CALSCALE:GREGORIAN
PRODID:-//Helios Calendar//EN
X-FROM-URL:https://www.aamu.edu/calendar/index.php?eID=2898
X-WR-RELCALID:AAMU Calendar Final Thesis Due to Graduate Studies Office (Electronic Submission) 20221104
X-WR-TIMEZONE:Europe/London
X-WR-CALNAME:AAMU Calendar
BEGIN:VEVENT
URL;VALUE=URI:https://www.aamu.edu/calendar/index.php?eID=2898
DTSTART;VALUE=DATE:20221104
DTEND;VALUE=DATE:20221105
SUMMARY:Final Thesis Due to Graduate Studies Office (Electronic Submission)
DESCRIPTION:Final Thesis Due to Graduate Studies Office (Electronic Submission) For complete event details please visit:  https://www.aamu.edu/calendar/?eID=2898\n______________________________\nEvent Downloaded Powered by OU Calendar
LOCATION:AAMU Campus - 4900 Meridian Street \, Huntsville\, AL USA 35811
CATEGORIES:AAMU Calendar Events
PRIORITY:0
TRANSP:TRANSPARENT
END:VEVENT
END:VCALENDAR