BEGIN:VCALENDAR
VERSION:2.0
METHOD:PUBLISH
CALSCALE:GREGORIAN
PRODID:-//Helios Calendar//EN
X-FROM-URL:https://www.aamu.edu/calendar/index.php?eID=2899
X-WR-RELCALID:AAMU Calendar Residence Halls Closed at 5:00 p.m. 20221209
X-WR-TIMEZONE:Europe/London
X-WR-CALNAME:AAMU Calendar
BEGIN:VEVENT
URL;VALUE=URI:https://www.aamu.edu/calendar/index.php?eID=2899
DTSTART;VALUE=DATE:20221209
DTEND;VALUE=DATE:20221210
SUMMARY:Residence Halls Closed at 5:00 p.m.
DESCRIPTION:Residence Halls Closed at 5:00 p.m. For complete event details please visit:  https://www.aamu.edu/calendar/?eID=2899\n______________________________\nEvent Downloaded Powered by OU Calendar
LOCATION:AAMU Campus - 4900 Meridian Street \, Huntsville\, AL USA 35811
CATEGORIES:AAMU Calendar Events
PRIORITY:0
TRANSP:TRANSPARENT
END:VEVENT
END:VCALENDAR