BEGIN:VCALENDAR
VERSION:2.0
METHOD:PUBLISH
CALSCALE:GREGORIAN
PRODID:-//Helios Calendar//EN
X-FROM-URL:https://www.aamu.edu/calendar/index.php?eID=2912
X-WR-RELCALID:AAMU Calendar Writing Process Workshop 20220606T123000
X-WR-TIMEZONE:Europe/London
X-WR-CALNAME:AAMU Calendar
BEGIN:VEVENT
URL;VALUE=URI:https://www.aamu.edu/calendar/index.php?eID=2912
DTSTART:20220606T123000
DTEND:20220606T133000
SUMMARY:Writing Process Workshop
DESCRIPTION:Do you have a paper to write\, but don't know how to start? Let us help you! Join our Zoom workshop\, Monday\, June 6 at 12:30p. Presented by The "Write Place."Meeting ID:948 4825 1932 For complete event details please visit:  https://www.aamu.edu/calendar/?eID=2912\n______________________________\nEvent Downloaded Powered by OU Calendar
LOCATION:Zoom Meeting - Zoom Meeting \, Huntsville\, AL  35810
CATEGORIES:AAMU Calendar Events
PRIORITY:0
TRANSP:TRANSPARENT
END:VEVENT
END:VCALENDAR