BEGIN:VCALENDAR
VERSION:2.0
METHOD:PUBLISH
CALSCALE:GREGORIAN
PRODID:-//Helios Calendar//EN
X-FROM-URL:https://www.aamu.edu/calendar/index.php?eID=2913
X-WR-RELCALID:AAMU Calendar Research Writing Workshop 20220613T123000
X-WR-TIMEZONE:Europe/London
X-WR-CALNAME:AAMU Calendar
BEGIN:VEVENT
URL;VALUE=URI:https://www.aamu.edu/calendar/index.php?eID=2913
DTSTART:20220613T123000
DTEND:20220613T133000
SUMMARY:Research Writing Workshop
DESCRIPTION:Writing takes time and so does research. When you're faced with the task of doing research and writing about it\, you need time to do it well and that takes time! In this workshop we will show you... For complete event details please visit:  https://www.aamu.edu/calendar/?eID=2913\n______________________________\nEvent Downloaded Powered by OU Calendar
LOCATION:Zoom Meeting - Zoom Meeting \, Huntsville\, AL  35810
CATEGORIES:AAMU Calendar Events
PRIORITY:0
TRANSP:TRANSPARENT
END:VEVENT
END:VCALENDAR